BEGIN:VCALENDAR
VERSION:2.0
PRODID:-//Schneider Manor - ECPv6.15.20//NONSGML v1.0//EN
CALSCALE:GREGORIAN
METHOD:PUBLISH
X-WR-CALNAME:Schneider Manor
X-ORIGINAL-URL:https://schneidermanor.org
X-WR-CALDESC:Events for Schneider Manor
REFRESH-INTERVAL;VALUE=DURATION:PT1H
X-Robots-Tag:noindex
X-PUBLISHED-TTL:PT1H
BEGIN:VTIMEZONE
TZID:UTC
BEGIN:STANDARD
TZOFFSETFROM:+0000
TZOFFSETTO:+0000
TZNAME:UTC
DTSTART:20190101T000000
END:STANDARD
END:VTIMEZONE
BEGIN:VEVENT
DTSTART;TZID=UTC:20210203T080000
DTEND;TZID=UTC:20210203T170000
DTSTAMP:20260423T163630
CREATED:20210203T182930Z
LAST-MODIFIED:20210203T183315Z
UID:26552-1612339200-1612371600@schneidermanor.org
SUMMARY:All events have been suspended due to Covid 19.
DESCRIPTION:Out of concern for the health and safety of our staff\, and residents\, and local communities — and in line with recent orders by the state health dept. — we sadly will not be holding any events in our community building in any capacity this year. \nTake care of yourselves. We’ll continue to do everything we can to help our communities stay safe\, informed\, and connected.
URL:https://schneidermanor.org/event/all-events-have-been-suspended-due-to-covid-19/
CATEGORIES:Office Manager Announcement
END:VEVENT
BEGIN:VEVENT
DTSTART;TZID=UTC:20201002T100000
DTEND;TZID=UTC:20201002T120000
DTSTAMP:20260423T163630
CREATED:20200819T163735Z
LAST-MODIFIED:20210215T205956Z
UID:25871-1601632800-1601640000@schneidermanor.org
SUMMARY:Flu Shot Clinic
DESCRIPTION:
URL:https://schneidermanor.org/event/flu-shot-clinic/
LOCATION:Activity Room
CATEGORIES:Flu Clinic
END:VEVENT
BEGIN:VEVENT
DTSTART;VALUE=DATE:20200908
DTEND;VALUE=DATE:20200909
DTSTAMP:20260423T163630
CREATED:20200813T185151Z
LAST-MODIFIED:20200813T185151Z
UID:25644-1599523200-1599609599@schneidermanor.org
SUMMARY:Labor Day
DESCRIPTION:
URL:https://schneidermanor.org/event/labor-day/
CATEGORIES:Holiday
END:VEVENT
END:VCALENDAR